BEGIN:VCALENDAR
VERSION:2.0
PRODID:icalendar-ruby
CALSCALE:GREGORIAN
METHOD:PUBLISH
BEGIN:VEVENT
DTSTAMP:20260425T114953Z
UID:5-448469@ourpathway.org
DTSTART:20260809T150000Z
DTEND:20260809T160000Z
CLASS:PUBLIC
CREATED:20260424T210759
DESCRIPTION:Sunday Worship
LAST-MODIFIED:20260424T210759
LOCATION:
SUMMARY:Sunday Worship
URL;VALUE=URI:https://www.ourpathway.org/events/sunday-worship/2026-08-09
END:VEVENT
END:VCALENDAR
